BEGIN:VCALENDAR
VERSION:2.0
PRODID:-//Sedona Arts Center - ECPv6.15.20//NONSGML v1.0//EN
CALSCALE:GREGORIAN
METHOD:PUBLISH
X-WR-CALNAME:Sedona Arts Center
X-ORIGINAL-URL:https://test.sedonaartscenter.org
X-WR-CALDESC:Events for Sedona Arts Center
REFRESH-INTERVAL;VALUE=DURATION:PT1H
X-Robots-Tag:noindex
X-PUBLISHED-TTL:PT1H
BEGIN:VTIMEZONE
TZID:America/Phoenix
BEGIN:STANDARD
TZOFFSETFROM:-0700
TZOFFSETTO:-0700
TZNAME:MST
DTSTART:20230101T000000
END:STANDARD
END:VTIMEZONE
BEGIN:VEVENT
DTSTART;TZID=America/Phoenix:20240802T160000
DTEND;TZID=America/Phoenix:20240802T180000
DTSTAMP:20260420T151431
CREATED:20230713T161617Z
LAST-MODIFIED:20240717T175434Z
UID:10000178-1722614400-1722621600@test.sedonaartscenter.org
SUMMARY:Volunteer Fair
DESCRIPTION:Join us for a Volunteer Fair \nFriday\, August 2 / 4pm–6pm \nWine\, simple hors d’oeuvres\, and cookies to be served \nVolunteer Recruitment for :\nCelebrate Sedona . Sedona Plein Air Festival . SAC Gallery \n  \nIf you are interested in volunteering\, you may sign up at on our volunteer page at: \nVolunteer Page Sign Up \n 
URL:https://test.sedonaartscenter.org/event/volunteer-fair/
LOCATION:Sedona Arts Center Dennis Ott Ceramics Studio\, State Route 89A and Art Barn Road\, Sedona\, 86336\, United States
ATTACH;FMTTYPE=image/jpeg:https://test.sedonaartscenter.org/wp-content/uploads/2023/07/volunteersneeded2024.jpg
GEO:34.8726286;-111.7575836
X-APPLE-STRUCTURED-LOCATION;VALUE=URI;X-ADDRESS=Sedona Arts Center Dennis Ott Ceramics Studio State Route 89A and Art Barn Road Sedona 86336 United States;X-APPLE-RADIUS=500;X-TITLE=State Route 89A and Art Barn Road:geo:-111.7575836,34.8726286
END:VEVENT
END:VCALENDAR