BEGIN:VCALENDAR
VERSION:2.0
PRODID:-//Sedona Arts Center - ECPv6.15.20//NONSGML v1.0//EN
CALSCALE:GREGORIAN
METHOD:PUBLISH
X-ORIGINAL-URL:https://test.sedonaartscenter.org
X-WR-CALDESC:Events for Sedona Arts Center
REFRESH-INTERVAL;VALUE=DURATION:PT1H
X-Robots-Tag:noindex
X-PUBLISHED-TTL:PT1H
BEGIN:VTIMEZONE
TZID:America/Phoenix
BEGIN:STANDARD
TZOFFSETFROM:-0700
TZOFFSETTO:-0700
TZNAME:MST
DTSTART:20240101T000000
END:STANDARD
END:VTIMEZONE
BEGIN:VEVENT
DTSTART;TZID=America/Phoenix:20250502T100000
DTEND;TZID=America/Phoenix:20250530T170000
DTSTAMP:20260420T101334
CREATED:20240617T184709Z
LAST-MODIFIED:20250519T164143Z
UID:10000255-1746180000-1748624400@test.sedonaartscenter.org
SUMMARY:¡Qué Hermoso! 2025
DESCRIPTION:¡Qué Hermoso! 2025\n  \nMay 2nd – 30th\, 2025\n  \n¡Qué Hermoso! showcases a variety of artistic mediums and styles and celebrates cultural identity and traditions by Arizona artists including Tato Caraveo\, Emily Costello\, Charissa Cota\, Zarco Guerrero\, Lucinda Hinojos\, Annie Lopez and Gretchen Lopez. More than 35 artworks will highlight histories\, familism\, forgotten stories and rich personal and collective experiences. \n  \n 
URL:https://test.sedonaartscenter.org/event/que-hermoso-2025/
LOCATION:Sedona Arts Center Dennis Ott Ceramics Studio\, State Route 89A and Art Barn Road\, Sedona\, 86336\, United States
ATTACH;FMTTYPE=image/jpeg:https://test.sedonaartscenter.org/wp-content/uploads/2023/10/que-hermoso.jpg
GEO:34.8726286;-111.7575836
X-APPLE-STRUCTURED-LOCATION;VALUE=URI;X-ADDRESS=Sedona Arts Center Dennis Ott Ceramics Studio State Route 89A and Art Barn Road Sedona 86336 United States;X-APPLE-RADIUS=500;X-TITLE=State Route 89A and Art Barn Road:geo:-111.7575836,34.8726286
END:VEVENT
END:VCALENDAR