BEGIN:VCALENDAR
VERSION:2.0
PRODID:-//Sedona Arts Center - ECPv6.15.20//NONSGML v1.0//EN
CALSCALE:GREGORIAN
METHOD:PUBLISH
X-ORIGINAL-URL:https://test.sedonaartscenter.org
X-WR-CALDESC:Events for Sedona Arts Center
REFRESH-INTERVAL;VALUE=DURATION:PT1H
X-Robots-Tag:noindex
X-PUBLISHED-TTL:PT1H
BEGIN:VTIMEZONE
TZID:America/Phoenix
BEGIN:STANDARD
TZOFFSETFROM:-0700
TZOFFSETTO:-0700
TZNAME:MST
DTSTART:20240101T000000
END:STANDARD
END:VTIMEZONE
BEGIN:VEVENT
DTSTART;TZID=America/Phoenix:20250606T120000
DTEND;TZID=America/Phoenix:20250725T170000
DTSTAMP:20260420T073746
CREATED:20240617T191828Z
LAST-MODIFIED:20250710T162512Z
UID:10000259-1749211200-1753462800@test.sedonaartscenter.org
SUMMARY:The Big Gay Art Show 2025 - Exhibition and Sale
DESCRIPTION:Big Gay Art Show\nJune 6th – July 25th\, 2025\nSedona Arts Center proudly presents the return of The Big Gay Art Show — a vibrant juried exhibition celebrating creative expression from the rainbow communities and their allies. This much-anticipated show invites artists of all backgrounds\, levels\, and mediums to share their voice through visual art. \nOriginally conceptualized in 2012 by a small group of artists and supporters — some connected to Sedona Arts Center and others from the Sedona Pride organization — the show began as a platform to uplift and include the rainbow community in the local arts scene. Since then\, it has grown into a beloved annual event\, welcoming hundreds of emerging and professional artists to Sedona. \nNow produced fully by Sedona Arts Center at the request of Sedona Pride\, the exhibition continues to provide a dynamic and positive venue for connection\, visibility\, and artistic celebration. \nFeatured Artists:Becky Altman\, Laura Atria\, Kevin Bacher\, Brandin Barón\, Simone Beach\, Jim Berenholtz\, Rora Blue\, Roberta Brown Shader\, Penny Buckley\, Juliette Buffington\, Rick Carraway\, Steven Cheadle\, Stephanie Dishno\, Kevin Eaton\, Marvella Frey\, Leo Gagne\, Eric Galbreath\, Corinne Geertsen\, Sharon Gilham\, Lynn Haygood Lee\, CJ Henderson\, Andres Juarez-Troncoso\, Gerald Kaplan\, Denize Katzen\, Kathryn Kirby\, Jason Kiss\, Mike Leckie\, Amy Light\, Harold Lohner\, Hank Lumen\, Michael McCalla\, Tom McIntire\, Nicole Melnicky\, Kachina Mooney\, Jennifer Myhre\, Michele Naylor\, Ross Ozer\, Ali Paintings\, Emma Parla-Aziz\, Rachel Peach\, Jasmine Porter\, Nath Raye\, Linda Riesterer\, Ro Robertson\, Jillian Sander\, Deborah Splain\, Ashley Young\, Xinyi Yu \n  \nOpening Reception: Friday\, June 6\, 2025 from 4p-6p at Celebrate Sedona. \nThe Special Exhibition Gallery is Open Daily 12-5pm
URL:https://test.sedonaartscenter.org/event/the-big-gay-art-show-2025-exhibition-and-sale/
LOCATION:Sedona Arts Center\, 15 Art Barn Rd\, Sedona\, AZ\, 86336\, United States
ATTACH;FMTTYPE=image/jpeg:https://test.sedonaartscenter.org/wp-content/uploads/2025/05/TheBigGayBanner-scaled.jpg
GEO:34.8724118;-111.7576233
X-APPLE-STRUCTURED-LOCATION;VALUE=URI;X-ADDRESS=Sedona Arts Center 15 Art Barn Rd Sedona AZ 86336 United States;X-APPLE-RADIUS=500;X-TITLE=15 Art Barn Rd:geo:-111.7576233,34.8724118
END:VEVENT
END:VCALENDAR