BEGIN:VCALENDAR
VERSION:2.0
PRODID:-//Sedona Arts Center - ECPv6.15.20//NONSGML v1.0//EN
CALSCALE:GREGORIAN
METHOD:PUBLISH
X-ORIGINAL-URL:https://test.sedonaartscenter.org
X-WR-CALDESC:Events for Sedona Arts Center
REFRESH-INTERVAL;VALUE=DURATION:PT1H
X-Robots-Tag:noindex
X-PUBLISHED-TTL:PT1H
BEGIN:VTIMEZONE
TZID:America/Phoenix
BEGIN:STANDARD
TZOFFSETFROM:-0700
TZOFFSETTO:-0700
TZNAME:MST
DTSTART:20240101T000000
END:STANDARD
END:VTIMEZONE
BEGIN:VEVENT
DTSTART;TZID=America/Phoenix:20251212T120000
DTEND;TZID=America/Phoenix:20260123T170000
DTSTAMP:20260419T142113
CREATED:20240617T195159Z
LAST-MODIFIED:20260114T183017Z
UID:10000260-1765540800-1769187600@test.sedonaartscenter.org
SUMMARY:Kindled: The Reitz Studio Legacy Exhibition and Sale
DESCRIPTION: Kindled: The Reitz Studio Legacy Exhibition and Sale\n  \nDecember  12th\, 2025 – January 23rd\, 2026\n  \nKindled: The Reitz Studio Legacy brings together the work of Don Reitz and the artists who worked alongside him as studio assistants during his later years at his Arizona ranch. More than just a celebration of Reitz’s singular voice in American ceramics\, this exhibition highlights the deep and lasting impact he had on the lives and practices of the artists who supported his studio. Through shared labor\, experimentation\, and conversation\, these assistants became part of a living lineage—absorbing Reitz’s fearless energy\, his love of fire and form\, and the raw honesty he brought to the material. \nThis exhibition features ceramic works by a select group of artists who worked closely with Reitz\, alongside pieces from Reitz himself. Each artist contributes not only their work but also a written reflection on their time at the ranch and the ways Reitz’s mentorship shaped their creative path. Together\, these works tell a story of legacy—not as imitation\, but as ignition: a spark passed from one hand to another\, kept alive in new forms\, new fires\, and new voices.
URL:https://test.sedonaartscenter.org/event/kindled-the-reitz-studio-legacy-exhibition-and-sale/
LOCATION:Sedona Arts Center\, 15 Art Barn Rd\, Sedona\, AZ\, 86336\, United States
ATTACH;FMTTYPE=image/jpeg:https://test.sedonaartscenter.org/wp-content/uploads/2025/12/KindledBanner-scaled.jpg
GEO:34.8724118;-111.7576233
X-APPLE-STRUCTURED-LOCATION;VALUE=URI;X-ADDRESS=Sedona Arts Center 15 Art Barn Rd Sedona AZ 86336 United States;X-APPLE-RADIUS=500;X-TITLE=15 Art Barn Rd:geo:-111.7576233,34.8724118
END:VEVENT
END:VCALENDAR