BEGIN:VCALENDAR
VERSION:2.0
PRODID:-//Sedona Arts Center - ECPv6.15.20//NONSGML v1.0//EN
CALSCALE:GREGORIAN
METHOD:PUBLISH
X-ORIGINAL-URL:https://test.sedonaartscenter.org
X-WR-CALDESC:Events for Sedona Arts Center
REFRESH-INTERVAL;VALUE=DURATION:PT1H
X-Robots-Tag:noindex
X-PUBLISHED-TTL:PT1H
BEGIN:VTIMEZONE
TZID:America/Phoenix
BEGIN:STANDARD
TZOFFSETFROM:-0700
TZOFFSETTO:-0700
TZNAME:MST
DTSTART:20250101T000000
END:STANDARD
END:VTIMEZONE
BEGIN:VEVENT
DTSTART;TZID=America/Phoenix:20260202T120000
DTEND;TZID=America/Phoenix:20260228T170000
DTSTAMP:20260419T143718
CREATED:20240617T191155Z
LAST-MODIFIED:20260105T191116Z
UID:10000258-1770033600-1772298000@test.sedonaartscenter.org
SUMMARY:Vision & Sound: An African American Experience 2026
DESCRIPTION:Vision & Sound: An African American Experience 2026\n  \nFebruary 2nd – 28th\, 2026\n  \nVision & Sound creates an educational experience and environment that broadens the understanding and appreciation of African American art\, music\, film\, and literary works for multigenerational and multicultural audiences. We strive to build supportive relationships to encourage cultural equity throughout Arizona and beyond – recognizing that professional American artists of African descent are too often overlooked. \nVisit VisionandSound.org for complete schedule of events and exhibitions spaces
URL:https://test.sedonaartscenter.org/event/vision-sound-an-african-american-experience-2026/
LOCATION:Sedona Arts Center\, 15 Art Barn Rd\, Sedona\, AZ\, 86336\, United States
ATTACH;FMTTYPE=image/jpeg:https://test.sedonaartscenter.org/wp-content/uploads/2026/01/VS2026Banner2-1.jpg
GEO:34.8724118;-111.7576233
X-APPLE-STRUCTURED-LOCATION;VALUE=URI;X-ADDRESS=Sedona Arts Center 15 Art Barn Rd Sedona AZ 86336 United States;X-APPLE-RADIUS=500;X-TITLE=15 Art Barn Rd:geo:-111.7576233,34.8724118
END:VEVENT
BEGIN:VEVENT
DTSTART;TZID=America/Phoenix:20260206T160000
DTEND;TZID=America/Phoenix:20260206T180000
DTSTAMP:20260419T143718
CREATED:20240628T231750Z
LAST-MODIFIED:20250710T163633Z
UID:10000276-1770393600-1770400800@test.sedonaartscenter.org
SUMMARY:Celebrate Sedona! February 6\, 2026 / 4-6pm
DESCRIPTION:February 6\, 2026 4PM – 6PM!\n\nLive Music: TBA\nSAC Ceramics Department: Demos and Ceramics Sale\nExhibition Opening: Vision & Sound\n\nCelebrate Sedona engages the local community while celebrating and featuring local and regional arts\, food and drink! Held in the upper parking lot of Sedona Arts Center\, Celebrate Sedona is a monthly celebration of the beauty and diversity of our community’s music\, food\, drink\, and artistry.
URL:https://test.sedonaartscenter.org/event/celebrate-sedona-february-6-2026-4-6pm/
LOCATION:Sedona Arts Center\, 15 Art Barn Rd\, Sedona\, AZ\, 86336\, United States
ATTACH;FMTTYPE=image/jpeg:https://test.sedonaartscenter.org/wp-content/uploads/2021/06/celebratesedonasq.jpg
GEO:34.8724118;-111.7576233
X-APPLE-STRUCTURED-LOCATION;VALUE=URI;X-ADDRESS=Sedona Arts Center 15 Art Barn Rd Sedona AZ 86336 United States;X-APPLE-RADIUS=500;X-TITLE=15 Art Barn Rd:geo:-111.7576233,34.8724118
END:VEVENT
END:VCALENDAR