BEGIN:VCALENDAR
VERSION:2.0
PRODID:-//Sedona Arts Center - ECPv6.15.20//NONSGML v1.0//EN
CALSCALE:GREGORIAN
METHOD:PUBLISH
X-ORIGINAL-URL:https://test.sedonaartscenter.org
X-WR-CALDESC:Events for Sedona Arts Center
REFRESH-INTERVAL;VALUE=DURATION:PT1H
X-Robots-Tag:noindex
X-PUBLISHED-TTL:PT1H
BEGIN:VTIMEZONE
TZID:America/Phoenix
BEGIN:STANDARD
TZOFFSETFROM:-0700
TZOFFSETTO:-0700
TZNAME:MST
DTSTART:20250101T000000
END:STANDARD
END:VTIMEZONE
BEGIN:VEVENT
DTSTART;TZID=America/Phoenix:20260424T120000
DTEND;TZID=America/Phoenix:20260531T170000
DTSTAMP:20260419T074429
CREATED:20250519T200836Z
LAST-MODIFIED:20250710T163921Z
UID:10000281-1777032000-1780246800@test.sedonaartscenter.org
SUMMARY:FORM and FACE: Abstract Bodies and Masked Identities
DESCRIPTION:FORM & FACE: Abstract Bodies and Masked Identities\nApril 24th – May 31st\, 2025\n  \n 
URL:https://test.sedonaartscenter.org/event/form-and-face-abstract-bodies-and-masked-identities/
LOCATION:Sedona Arts Center\, 15 Art Barn Rd\, Sedona\, AZ\, 86336\, United States
ATTACH;FMTTYPE=image/jpeg:https://test.sedonaartscenter.org/wp-content/uploads/2025/06/Form-and-Face-scaled.jpg
GEO:34.8724118;-111.7576233
X-APPLE-STRUCTURED-LOCATION;VALUE=URI;X-ADDRESS=Sedona Arts Center 15 Art Barn Rd Sedona AZ 86336 United States;X-APPLE-RADIUS=500;X-TITLE=15 Art Barn Rd:geo:-111.7576233,34.8724118
END:VEVENT
END:VCALENDAR